BEGIN:VCALENDAR
VERSION:2.0
PRODID:https://github.com/derhansen/sf_event_mgt
METHOD:PUBLISH
BEGIN:VEVENT
UID:124-261@www.link-ortho.com
CLASS: PUBLIC
SUMMARY:LINKademy Educational Course: LinkSymphoKnee
DESCRIPTION:Speaker\n\n 	 	Dr. Alois Franz 	Medical Director 	St. Marien Kr
 ankenhaus Siegen 	Siegen, Germany 	 \n\n\n\n 	 	Dr. Ufuk Sentuerk 	Medical 
 Director 	St.-Joseph-Krankenhaus 	Berlin, Germany 	 \n\n\n\nObjectives of t
 he course\n\n 	 	Gain comprehensive hands-on experience, mastering the inst
 rumentation and surgical workflow in a wetlab setting. 	 	 	Reinforce theor
 etical knowledge with practical application and case discussions. Refine su
 rgical techniques through practical training. 	 	 	Learn tips, tricks and p
 otential pitfalls from experienced faculty to improve surgical efficiency a
 nd patient outcomes. 	 	 	Collaborate with experienced instructors and peer
 s, sharing insights and best practices to deepen your expertise. 	 \n\n\n\n
 Target group\n\nSurgeons seeking to develop their knowledge of the LinkSymp
 hoKnee by experiencing in-depth exploration of the instruments, implants an
 d surgical techniques guided by experts. Surgical experience with the impla
 nt system is not mandatory.\n\n\n\nAdditional information\n\n 	Max. 12 part
 icipants 	2 days 	Meeting language: English \n\n \n\nFlyer\n\nDownload
LOCATION:Milan, Italy
DTSTAMP:20260211T132607Z
DTSTART:20261112T140000Z
DTEND:20261113T130000Z
END:VEVENT
END:VCALENDAR
