BEGIN:VCALENDAR
VERSION:2.0
PRODID:https://github.com/derhansen/sf_event_mgt
METHOD:PUBLISH
BEGIN:VEVENT
UID:167-1203@www.link-ortho.com
CLASS: PUBLIC
SUMMARY:LINKademy Educational Course: Distal Femoral Replacement
DESCRIPTION:Ziele des Kurses\n\n 	 	Verfeinern Sie Ihr Fachwissen über die 
 Implantate durch lebhafte Diskussionen und praktische Anwendung im Wetlab. 
 	 	 	Erleben Sie hautnah wie unsere renommierten Instruktoren ihre Fälle de
 monstrieren und durchführen – inklusive Tipps und Tricks. 	 	 	Nehmen Sie t
 eil an interaktiven Diskussionen über anspruchsvolle Fälle und aktuelle The
 men mit unserem erfahrenen Lehrteam, um die bestmöglichen Patientenergebnis
 se zu erzielen. 	 \n\n\n\nZielgruppe\n\nChirurgen, die ihr Wissen über die 
 Implantate durch praxisorientierte Übungen mit Instrumenten, Implantaten un
 d chirurgischen Techniken unter Anleitung von Experten erweitern möchten. C
 hirurgische Vorerfahrung mit dem Implantatsystem ist zwingend erforderlich.
 \n\n\n\nZusätzliche Informationen\n\n 	Max. 12 Teilnehmer 	2 Tage 	Kurs in 
 englischer Sprache \n\n\n\nFlyer\n\nDownload
LOCATION:Milan, Italy
DTSTAMP:20260316T153633Z
DTSTART:20260611T130000Z
DTEND:20260612T120000Z
END:VEVENT
END:VCALENDAR
